BEGIN:VCALENDAR
VERSION:2.0
PRODID:-//CMSA - ECPv6.6.4.2//NONSGML v1.0//EN
CALSCALE:GREGORIAN
METHOD:PUBLISH
X-WR-CALNAME:CMSA
X-ORIGINAL-URL:https://cmsa.org
X-WR-CALDESC:Events for CMSA
REFRESH-INTERVAL;VALUE=DURATION:PT1H
X-Robots-Tag:noindex
X-PUBLISHED-TTL:PT1H
BEGIN:VTIMEZONE
TZID:America/New_York
BEGIN:DAYLIGHT
TZOFFSETFROM:-0500
TZOFFSETTO:-0400
TZNAME:EDT
DTSTART:20260308T070000
END:DAYLIGHT
BEGIN:STANDARD
TZOFFSETFROM:-0400
TZOFFSETTO:-0500
TZNAME:EST
DTSTART:20261101T060000
END:STANDARD
END:VTIMEZONE
BEGIN:VEVENT
DTSTART;TZID=America/New_York:20260422T180000
DTEND;TZID=America/New_York:20260422T190000
DTSTAMP:20260422T025530
CREATED:20260330T182003Z
LAST-MODIFIED:20260330T182003Z
UID:48455-1776880800-1776884400@cmsa.org
SUMMARY:CMSA Board of Directors – General Session Meeting
DESCRIPTION:REGISTER HERE!\nJoin us for the April 22nd CMSA Board of Directors General Session Meeting!\nCMSA's Board of Directors will lead the meeting. Active CMSA members are able to attend and observe. \nWednesday\, April 22\, 2026\n3 p.m. Pacific | 4 p.m. Mountain | 5 p.m. Central | 6 p.m. Eastern \nThis is a CMSA Member Only event.\nIf you would like to join CMSA\, please visit https://cmsa.org/membership to learn more!\nFor questions\, contact Ashton Roach\, aroach@parthenonmgmt.com
URL:https://cmsa.org/event/apr-2026-bod/
LOCATION:Virtual Event
ATTACH;FMTTYPE=image/png:https://cmsa.org/wp-content/uploads/2026/01/general-board-cover.png
END:VEVENT
END:VCALENDAR